BEGIN:VCALENDAR
VERSION:2.0
PRODID:-//Jackson Township, Stark County, Ohio - ECPv6.15.12.2//NONSGML v1.0//EN
CALSCALE:GREGORIAN
METHOD:PUBLISH
X-ORIGINAL-URL:https://jacksontwp.com
X-WR-CALDESC:Events for Jackson Township, Stark County, Ohio
REFRESH-INTERVAL;VALUE=DURATION:PT1H
X-Robots-Tag:noindex
X-PUBLISHED-TTL:PT1H
BEGIN:VTIMEZONE
TZID:America/New_York
BEGIN:DAYLIGHT
TZOFFSETFROM:-0500
TZOFFSETTO:-0400
TZNAME:EDT
DTSTART:20240310T070000
END:DAYLIGHT
BEGIN:STANDARD
TZOFFSETFROM:-0400
TZOFFSETTO:-0500
TZNAME:EST
DTSTART:20241103T060000
END:STANDARD
BEGIN:DAYLIGHT
TZOFFSETFROM:-0500
TZOFFSETTO:-0400
TZNAME:EDT
DTSTART:20250309T070000
END:DAYLIGHT
BEGIN:STANDARD
TZOFFSETFROM:-0400
TZOFFSETTO:-0500
TZNAME:EST
DTSTART:20251102T060000
END:STANDARD
BEGIN:DAYLIGHT
TZOFFSETFROM:-0500
TZOFFSETTO:-0400
TZNAME:EDT
DTSTART:20260308T070000
END:DAYLIGHT
BEGIN:STANDARD
TZOFFSETFROM:-0400
TZOFFSETTO:-0500
TZNAME:EST
DTSTART:20261101T060000
END:STANDARD
END:VTIMEZONE
BEGIN:VEVENT
DTSTART;TZID=America/New_York:20251218T140000
DTEND;TZID=America/New_York:20251218T150000
DTSTAMP:20260422T135627
CREATED:20250116T170248Z
LAST-MODIFIED:20251124T155115Z
UID:10000004-1766066400-1766070000@jacksontwp.com
SUMMARY:Community Improvement Corporation Meeting
DESCRIPTION:Get your tickets today for a Tribute to the 90s with Bad JuJu Cleveland at the Nash Family Jackson Amphitheater. Please visit www.jacksonamphitheater.com for full concert\, band and venue information\, plus links for ticket purchase.
URL:https://jacksontwp.com/event/community-improvement-corporation-meeting-9/
LOCATION:Jackson Township Hall\, 5735 Wales Ave\, Massillon\, OH\, 44646\, United States
ATTACH;FMTTYPE=image/png:https://jacksontwp.com/wp-content/uploads/2025/01/CIC-Logo-200-x-200-px-1.png
END:VEVENT
END:VCALENDAR