BEGIN:VCALENDAR
VERSION:2.0
PRODID:-//Jackson Township, Stark County, Ohio - ECPv6.15.12.2//NONSGML v1.0//EN
CALSCALE:GREGORIAN
METHOD:PUBLISH
X-WR-CALNAME:Jackson Township, Stark County, Ohio
X-ORIGINAL-URL:https://jacksontwp.com
X-WR-CALDESC:Events for Jackson Township, Stark County, Ohio
REFRESH-INTERVAL;VALUE=DURATION:PT1H
X-Robots-Tag:noindex
X-PUBLISHED-TTL:PT1H
BEGIN:VTIMEZONE
TZID:America/New_York
BEGIN:DAYLIGHT
TZOFFSETFROM:-0500
TZOFFSETTO:-0400
TZNAME:EDT
DTSTART:20250309T070000
END:DAYLIGHT
BEGIN:STANDARD
TZOFFSETFROM:-0400
TZOFFSETTO:-0500
TZNAME:EST
DTSTART:20251102T060000
END:STANDARD
BEGIN:DAYLIGHT
TZOFFSETFROM:-0500
TZOFFSETTO:-0400
TZNAME:EDT
DTSTART:20260308T070000
END:DAYLIGHT
BEGIN:STANDARD
TZOFFSETFROM:-0400
TZOFFSETTO:-0500
TZNAME:EST
DTSTART:20261101T060000
END:STANDARD
BEGIN:DAYLIGHT
TZOFFSETFROM:-0500
TZOFFSETTO:-0400
TZNAME:EDT
DTSTART:20270314T070000
END:DAYLIGHT
BEGIN:STANDARD
TZOFFSETFROM:-0400
TZOFFSETTO:-0500
TZNAME:EST
DTSTART:20271107T060000
END:STANDARD
END:VTIMEZONE
BEGIN:VEVENT
DTSTART;TZID=America/New_York:20260627T150000
DTEND;TZID=America/New_York:20260627T230000
DTSTAMP:20260421T172018
CREATED:20260402T144956Z
LAST-MODIFIED:20260402T144956Z
UID:10000096-1782572400-1782601200@jacksontwp.com
SUMMARY:Jackson Community Celebration Schedule for Saturday 6/27/26
DESCRIPTION:The 2026 Jackson Community Celebration features food\, rides\, games\, craft market\, live entertainment and more! \nCommunity Celebration Hours: \nWed 6/24 6:00pm to 11:00pm\nThu 6/25 6:00pm to 11:00pm\nFri 6/26 5:00pm to 11:00pm\nSat 6/27 from 3:00pm to 11:00pm\nSchedule for Saturday 6/27/26:\nLive Entertainment on the Nash Family Jackson Amphitheater stage:\n6:00pm Vinyl Arcade\n8:30pm Disco Inferno\nFireworks at Dark! \n 
URL:https://jacksontwp.com/event/06272026/
LOCATION:Nash Family Jackson Amphitheater\, 7454 Community Pkwy NW\, Massillon\, OH\, 44646\, United States
CATEGORIES:Amphitheater Events,Park Events
ATTACH;FMTTYPE=image/png:https://jacksontwp.com/wp-content/uploads/2026/01/06272026-CC-1080x1440-IG.png
ORGANIZER;CN="Nash Family Jackson Amphitheater":MAILTO:info@jacksonamphitheater.com
END:VEVENT
END:VCALENDAR