BEGIN:VCALENDAR
VERSION:2.0
PRODID:-//Jackson Township, Stark County, Ohio - ECPv6.15.12.2//NONSGML v1.0//EN
CALSCALE:GREGORIAN
METHOD:PUBLISH
X-ORIGINAL-URL:https://jacksontwp.com
X-WR-CALDESC:Events for Jackson Township, Stark County, Ohio
REFRESH-INTERVAL;VALUE=DURATION:PT1H
X-Robots-Tag:noindex
X-PUBLISHED-TTL:PT1H
BEGIN:VTIMEZONE
TZID:America/New_York
BEGIN:DAYLIGHT
TZOFFSETFROM:-0500
TZOFFSETTO:-0400
TZNAME:EDT
DTSTART:20250309T070000
END:DAYLIGHT
BEGIN:STANDARD
TZOFFSETFROM:-0400
TZOFFSETTO:-0500
TZNAME:EST
DTSTART:20251102T060000
END:STANDARD
BEGIN:DAYLIGHT
TZOFFSETFROM:-0500
TZOFFSETTO:-0400
TZNAME:EDT
DTSTART:20260308T070000
END:DAYLIGHT
BEGIN:STANDARD
TZOFFSETFROM:-0400
TZOFFSETTO:-0500
TZNAME:EST
DTSTART:20261101T060000
END:STANDARD
BEGIN:DAYLIGHT
TZOFFSETFROM:-0500
TZOFFSETTO:-0400
TZNAME:EDT
DTSTART:20270314T070000
END:DAYLIGHT
BEGIN:STANDARD
TZOFFSETFROM:-0400
TZOFFSETTO:-0500
TZNAME:EST
DTSTART:20271107T060000
END:STANDARD
BEGIN:DAYLIGHT
TZOFFSETFROM:-0500
TZOFFSETTO:-0400
TZNAME:EDT
DTSTART:20280312T070000
END:DAYLIGHT
BEGIN:STANDARD
TZOFFSETFROM:-0400
TZOFFSETTO:-0500
TZNAME:EST
DTSTART:20281105T060000
END:STANDARD
END:VTIMEZONE
BEGIN:VEVENT
DTSTART;TZID=America/New_York:20260502T080000
DTEND;TZID=America/New_York:20260502T100000
DTSTAMP:20260421T114551
CREATED:20260107T145008Z
LAST-MODIFIED:20260107T145148Z
UID:10000049-1777708800-1777716000@jacksontwp.com
SUMMARY:Fishing Derby
DESCRIPTION:Kids fishing day at our North Park Pond! This free event is for kids age 15 & under. Registration forms must be turned in no later than 4:00 Pm on Friday\, May 1\, 2026. Registration forms can be picked up at the Township Administration building or on our website. \nFor registration & more information: 330-832-2845 or email Tkerchner@jacksontwp.com
URL:https://jacksontwp.com/event/jackson-township-fishing-derby/
LOCATION:North Park\, 7660 Fulton Rd. NW\, Massillon\, OH\, 44646\, United States
CATEGORIES:Park Events
ATTACH;FMTTYPE=image/png:https://jacksontwp.com/wp-content/uploads/2026/01/fishing.png
END:VEVENT
BEGIN:VEVENT
DTSTART;TZID=America/New_York:20260531T150000
DTEND;TZID=America/New_York:20260531T180000
DTSTAMP:20260421T114551
CREATED:20260402T150445Z
LAST-MODIFIED:20260402T155023Z
UID:10000097-1780239600-1780250400@jacksontwp.com
SUMMARY:Zootopia 2 - Movie at the Nash Family Jackson Amphitheater [FREE!]
DESCRIPTION:Join us for the movie Zootopia 2 at the Nash Family Jackson Amphitheater! This movie is free and no ticket is required. \nFood & drinks are permitted to be brought into the Nash Family Jackson Amphitheater for this event. (No alcohol allowed\, please.) \nBring a chair or blanket\, as seating is not provided.
URL:https://jacksontwp.com/event/05312026/
LOCATION:Nash Family Jackson Amphitheater\, 7454 Community Pkwy NW\, Massillon\, OH\, 44646\, United States
CATEGORIES:Amphitheater Events,Park Events
ATTACH;FMTTYPE=image/png:https://jacksontwp.com/wp-content/uploads/2026/04/053126-Zootopia-2-1080x1440-1.png
ORGANIZER;CN="Jackson Township Parks & Recreation Department":MAILTO:info@jacksontwp.com
END:VEVENT
BEGIN:VEVENT
DTSTART;TZID=America/New_York:20260612T100000
DTEND;TZID=America/New_York:20260612T120000
DTSTAMP:20260421T114551
CREATED:20260402T152516Z
LAST-MODIFIED:20260402T152516Z
UID:10000098-1781258400-1781265600@jacksontwp.com
SUMMARY:Outback Ray & Wes Holly at the Nash Family Jackson Amphitheater [FREE!]
DESCRIPTION:The Stark Library / Jackson Community Branch and the Jackson Township Parks & Recreation Department are bringing you TWO GREAT SHOWS! \nGet ready for an unforgettable experience with Outback Ray’s Amazing Animal Show followed by Wes Holly’s Song & Dance Party! \n10:00am Outback Ray: This action-packed\, hands-on adventure is guaranteed to captivate and entertain guests of ALL ages. Outback Ray brings a variety of captive born reptiles and mammals to the show\, but he brings humor\, knowledge\, & relatability. \n11:00am Wes Holly: Wes Holly’s Song & Dance Party will entertain the entire family! Clapping\, dancing\, singing and laughing is what your children will be doing when Wes picks up his guitar (or banjo!). Both new & familiar songs are used. Appropriate for toddler to around age 6\, but all are welcome. \nShow information:\n• Shows are held in the Nash Family Jackson Amphitheater and are free\, no ticket is required.\n• Each show begins on time and will last about 45-50 minutes.\n• In the case of inclement weather\, both of these shows will be at JACKSON HIGH SCHOOL in the Auxiliary Gym. ENTER THROUGH THE 16W DOORS.\n• If at the Nash Family Jackson Amphitheater\, seating is not provided. Bring blankets or chairs if you do not wish to sit on the grass.\n• If in the Nash Family Jackson Amphitheater\, shows will be in the sun (there is no shade inside the venue) so please plan accordingly by bringing sunscreen\, sunglasses & other sun protection.\n• PETS ARE NOT ALLOWED. Animals servicing the disabled are welcomed.
URL:https://jacksontwp.com/event/outback-ray-wes-holly-at-the-nash-family-jackson-amphitheater-free/
LOCATION:Nash Family Jackson Amphitheater\, 7454 Community Pkwy NW\, Massillon\, OH\, 44646\, United States
CATEGORIES:Amphitheater Events,Park Events
ATTACH;FMTTYPE=image/png:https://jacksontwp.com/wp-content/uploads/2026/04/061226-Outback-Ray-Wes-Holly-1080X1440.png
ORGANIZER;CN="Jackson Township Parks & Recreation Department":MAILTO:info@jacksontwp.com
END:VEVENT
BEGIN:VEVENT
DTSTART;TZID=America/New_York:20260624T180000
DTEND;TZID=America/New_York:20260624T230000
DTSTAMP:20260421T114551
CREATED:20260402T143342Z
LAST-MODIFIED:20260402T143342Z
UID:10000093-1782324000-1782342000@jacksontwp.com
SUMMARY:Jackson Community Celebration Schedule for Wednesday 6/24/26
DESCRIPTION:The 2026 Jackson Community Celebration features food\, rides\, games\, craft market\, live entertainment and more! \nCommunity Celebration Hours: \nWed 6/24 6:00pm to 11:00pm\nThu 6/25 6:00pm to 11:00pm\nFri 6/26 5:00pm to 11:00pm\nSat 6/27 from 3:00pm to 11:00pm\nSchedule for Wednesday 6/24/26:\nLive Entertainment on the Nash Family Jackson Amphitheater stage:  8:00pm FlashBack CLE \n 
URL:https://jacksontwp.com/event/06242026/
LOCATION:Nash Family Jackson Amphitheater\, 7454 Community Pkwy NW\, Massillon\, OH\, 44646\, United States
CATEGORIES:Amphitheater Events,Park Events
ATTACH;FMTTYPE=image/png:https://jacksontwp.com/wp-content/uploads/2026/01/06242026-CC-1080x1440-IG.png
ORGANIZER;CN="Nash Family Jackson Amphitheater":MAILTO:info@jacksonamphitheater.com
END:VEVENT
BEGIN:VEVENT
DTSTART;TZID=America/New_York:20260625T180000
DTEND;TZID=America/New_York:20260625T230000
DTSTAMP:20260421T114551
CREATED:20260402T143635Z
LAST-MODIFIED:20260402T143635Z
UID:10000094-1782410400-1782428400@jacksontwp.com
SUMMARY:Jackson Community Celebration Schedule for Thursday 6/25/26
DESCRIPTION:The 2026 Jackson Community Celebration features food\, rides\, games\, craft market\, live entertainment and more! \nCommunity Celebration Hours: \nWed 6/24 6:00pm to 11:00pm\nThu 6/25 6:00pm to 11:00pm\nFri 6/26 5:00pm to 11:00pm\nSat 6/27 from 3:00pm to 11:00pm\nSchedule for Thursday 6/25/26:\nLive Entertainment on the Nash Family Jackson Amphitheater stage:  8:00pm Buck Naked Band\n 
URL:https://jacksontwp.com/event/06252026/
LOCATION:Nash Family Jackson Amphitheater\, 7454 Community Pkwy NW\, Massillon\, OH\, 44646\, United States
CATEGORIES:Amphitheater Events,Park Events
ATTACH;FMTTYPE=image/png:https://jacksontwp.com/wp-content/uploads/2026/01/06252026-CC-1080x1440-IG.png
ORGANIZER;CN="Nash Family Jackson Amphitheater":MAILTO:info@jacksonamphitheater.com
END:VEVENT
BEGIN:VEVENT
DTSTART;TZID=America/New_York:20260626T170000
DTEND;TZID=America/New_York:20260626T230000
DTSTAMP:20260421T114551
CREATED:20260402T144553Z
LAST-MODIFIED:20260402T144553Z
UID:10000095-1782493200-1782514800@jacksontwp.com
SUMMARY:Jackson Community Celebration Schedule for Friday 6/26/26
DESCRIPTION:The 2026 Jackson Community Celebration features food\, rides\, games\, craft market\, live entertainment and more! \nCommunity Celebration Hours: \nWed 6/24 6:00pm to 11:00pm\nThu 6/25 6:00pm to 11:00pm\nFri 6/26 5:00pm to 11:00pm\nSat 6/27 from 3:00pm to 11:00pm\nSchedule for Friday 6/26/26:\nLive Entertainment on the Nash Family Jackson Amphitheater stage:\n6:00pm Wheels Up\n8:30pm Trailer Park Ninjas\n9:00pm Kid’s 1/2 Mile Fun Run\n9:30pm Glow Run 5K – Pre-registration Required: https://runsignup.com/Race/OH/Massillon/NightGlow5K\n  \n 
URL:https://jacksontwp.com/event/06262026/
LOCATION:Nash Family Jackson Amphitheater\, 7454 Community Pkwy NW\, Massillon\, OH\, 44646\, United States
CATEGORIES:Amphitheater Events,Park Events
ATTACH;FMTTYPE=image/png:https://jacksontwp.com/wp-content/uploads/2026/01/06262026-CC-1080x1440-IG.png
ORGANIZER;CN="Nash Family Jackson Amphitheater":MAILTO:info@jacksonamphitheater.com
END:VEVENT
BEGIN:VEVENT
DTSTART;TZID=America/New_York:20260627T150000
DTEND;TZID=America/New_York:20260627T230000
DTSTAMP:20260421T114551
CREATED:20260402T144956Z
LAST-MODIFIED:20260402T144956Z
UID:10000096-1782572400-1782601200@jacksontwp.com
SUMMARY:Jackson Community Celebration Schedule for Saturday 6/27/26
DESCRIPTION:The 2026 Jackson Community Celebration features food\, rides\, games\, craft market\, live entertainment and more! \nCommunity Celebration Hours: \nWed 6/24 6:00pm to 11:00pm\nThu 6/25 6:00pm to 11:00pm\nFri 6/26 5:00pm to 11:00pm\nSat 6/27 from 3:00pm to 11:00pm\nSchedule for Saturday 6/27/26:\nLive Entertainment on the Nash Family Jackson Amphitheater stage:\n6:00pm Vinyl Arcade\n8:30pm Disco Inferno\nFireworks at Dark! \n 
URL:https://jacksontwp.com/event/06272026/
LOCATION:Nash Family Jackson Amphitheater\, 7454 Community Pkwy NW\, Massillon\, OH\, 44646\, United States
CATEGORIES:Amphitheater Events,Park Events
ATTACH;FMTTYPE=image/png:https://jacksontwp.com/wp-content/uploads/2026/01/06272026-CC-1080x1440-IG.png
ORGANIZER;CN="Nash Family Jackson Amphitheater":MAILTO:info@jacksonamphitheater.com
END:VEVENT
BEGIN:VEVENT
DTSTART;TZID=America/New_York:20260710T100000
DTEND;TZID=America/New_York:20260710T110000
DTSTAMP:20260421T114551
CREATED:20260402T153516Z
LAST-MODIFIED:20260402T153516Z
UID:10000099-1783677600-1783681200@jacksontwp.com
SUMMARY:Outback Ray and his Amazing Animals at the Nash Family Jackson Amphitheater [FREE!]
DESCRIPTION:Get ready for an unforgettable experience with Outback Ray’s Amazing Animal Show! This action-packed\, hands-on adventure is guaranteed to captivate and entertain guests of ALL ages. Outback Ray brings a variety of captive born reptiles and mammals to the show\, but he brings humor\, knowledge\, & relatability. \nShow information:\n• Shows are held in the Nash Family Jackson Amphitheater and are free\, no ticket is required.\n• Each show begins on time and will last about 45-50 minutes.\n• Shows are outdoors\, weather permitting.\n• Seating is not provided. Bring blankets or chairs if you do not wish to sit on the grass.\n• Shows will be in the sun (there is no shade inside the venue) so please plan accordingly by bringing sunscreen\, sunglasses & other sun protection.\n• PETS ARE NOT ALLOWED. Animals servicing the disabled are welcomed.
URL:https://jacksontwp.com/event/outbackray07102026/
LOCATION:Nash Family Jackson Amphitheater\, 7454 Community Pkwy NW\, Massillon\, OH\, 44646\, United States
CATEGORIES:Amphitheater Events,Park Events
ATTACH;FMTTYPE=image/png:https://jacksontwp.com/wp-content/uploads/2026/04/2026-Outback-Ray-1080x1440-1.png
ORGANIZER;CN="Jackson Township Parks & Recreation Department":MAILTO:info@jacksontwp.com
END:VEVENT
BEGIN:VEVENT
DTSTART;TZID=America/New_York:20260715T103000
DTEND;TZID=America/New_York:20260715T113000
DTSTAMP:20260421T114551
CREATED:20260202T211932Z
LAST-MODIFIED:20260402T155846Z
UID:10000070-1784111400-1784115000@jacksontwp.com
SUMMARY:Creative Movement with Barb Craven [FREE!]
DESCRIPTION:
URL:https://jacksontwp.com/event/cm07152026/
LOCATION:North Park\, 7660 Fulton Rd. NW\, Massillon\, OH\, 44646\, United States
CATEGORIES:Park Events
ATTACH;FMTTYPE=image/png:https://jacksontwp.com/wp-content/uploads/2026/02/2026-Creative-Movement-1080x1440-IG-1.png
ORGANIZER;CN="Jackson Township Parks & Recreation Department":MAILTO:info@jacksontwp.com
END:VEVENT
BEGIN:VEVENT
DTSTART;TZID=America/New_York:20260722T103000
DTEND;TZID=America/New_York:20260722T113000
DTSTAMP:20260421T114551
CREATED:20260202T212125Z
LAST-MODIFIED:20260402T155801Z
UID:10000071-1784716200-1784719800@jacksontwp.com
SUMMARY:Creative Movement with Barb Craven [FREE!]
DESCRIPTION:
URL:https://jacksontwp.com/event/cm07222026/
LOCATION:North Park\, 7660 Fulton Rd. NW\, Massillon\, OH\, 44646\, United States
CATEGORIES:Park Events
ATTACH;FMTTYPE=image/png:https://jacksontwp.com/wp-content/uploads/2026/02/2026-Creative-Movement-1080x1440-IG-1.png
ORGANIZER;CN="Jackson Township Parks & Recreation Department":MAILTO:info@jacksontwp.com
END:VEVENT
BEGIN:VEVENT
DTSTART;TZID=America/New_York:20260729T103000
DTEND;TZID=America/New_York:20260729T113000
DTSTAMP:20260421T114551
CREATED:20260202T212238Z
LAST-MODIFIED:20260402T155712Z
UID:10000072-1785321000-1785324600@jacksontwp.com
SUMMARY:Creative Movement with Barb Craven [FREE!]
DESCRIPTION:
URL:https://jacksontwp.com/event/cm07292026/
LOCATION:North Park\, 7660 Fulton Rd. NW\, Massillon\, OH\, 44646\, United States
CATEGORIES:Park Events
ATTACH;FMTTYPE=image/png:https://jacksontwp.com/wp-content/uploads/2026/02/2026-Creative-Movement-1080x1440-IG-1.png
ORGANIZER;CN="Jackson Township Parks & Recreation Department":MAILTO:info@jacksontwp.com
END:VEVENT
BEGIN:VEVENT
DTSTART;TZID=America/New_York:20260731T150000
DTEND;TZID=America/New_York:20260731T190000
DTSTAMP:20260421T114551
CREATED:20260107T150834Z
LAST-MODIFIED:20260402T173657Z
UID:10000051-1785510000-1785524400@jacksontwp.com
SUMMARY:Jackson Township Car Show at the Nash Family Jackson Amphitheater
DESCRIPTION:Join us to vote for your favorite car\, truck and motorcycle at the 2026 Jackson Township Car Show! Free to attend\, enjoy classic cars\, food trucks\, a DJ playing music\, and adult beverages will be available for sale. Register the day of the show for $20/vehicle. Prizes will be awarded at 7:00pm in the Original Truck\, Original car\, Hot Rod Car\, Hot Rod Truck\, Motorcycle & Foreign Car categories. \nRegistration begins at 3:00pm the day of the event. Registration includes a digital photo of your vehicle and one (1) free ticket to a future Nash Family Jackson Amphitheater concert in 2026.
URL:https://jacksontwp.com/event/carshow07312026/
LOCATION:Nash Family Jackson Amphitheater\, 7454 Community Pkwy NW\, Massillon\, OH\, 44646\, United States
CATEGORIES:Park Events
ATTACH;FMTTYPE=image/png:https://jacksontwp.com/wp-content/uploads/2026/01/Car-Show-Flyer-1080X1440.png
ORGANIZER;CN="Jackson Township Parks & Recreation Department":MAILTO:info@jacksontwp.com
END:VEVENT
BEGIN:VEVENT
DTSTART;TZID=America/New_York:20260805T103000
DTEND;TZID=America/New_York:20260805T113000
DTSTAMP:20260421T114551
CREATED:20260202T212314Z
LAST-MODIFIED:20260402T155553Z
UID:10000073-1785925800-1785929400@jacksontwp.com
SUMMARY:Creative Movement with Barb Craven [FREE!]
DESCRIPTION:
URL:https://jacksontwp.com/event/cm08052026/
LOCATION:North Park\, 7660 Fulton Rd. NW\, Massillon\, OH\, 44646\, United States
CATEGORIES:Park Events
ATTACH;FMTTYPE=image/png:https://jacksontwp.com/wp-content/uploads/2026/02/2026-Creative-Movement-1080x1440-IG-1.png
ORGANIZER;CN="Jackson Township Parks & Recreation Department":MAILTO:info@jacksontwp.com
END:VEVENT
BEGIN:VEVENT
DTSTART;TZID=America/New_York:20260814T150000
DTEND;TZID=America/New_York:20260814T160000
DTSTAMP:20260421T114551
CREATED:20260402T153656Z
LAST-MODIFIED:20260402T153657Z
UID:10000100-1786719600-1786723200@jacksontwp.com
SUMMARY:Outback Ray and his Amazing Animals at the Nash Family Jackson Amphitheater [FREE!]
DESCRIPTION:Get ready for an unforgettable experience with Outback Ray’s Amazing Animal Show! This action-packed\, hands-on adventure is guaranteed to captivate and entertain guests of ALL ages. Outback Ray brings a variety of captive born reptiles and mammals to the show\, but he brings humor\, knowledge\, & relatability. \nShow information:\n• Shows are held in the Nash Family Jackson Amphitheater and are free\, no ticket is required.\n• Each show begins on time and will last about 45-50 minutes.\n• Shows are outdoors\, weather permitting.\n• Seating is not provided. Bring blankets or chairs if you do not wish to sit on the grass.\n• Shows will be in the sun (there is no shade inside the venue) so please plan accordingly by bringing sunscreen\, sunglasses & other sun protection.\n• PETS ARE NOT ALLOWED. Animals servicing the disabled are welcomed.
URL:https://jacksontwp.com/event/outbackray08142026/
LOCATION:Nash Family Jackson Amphitheater\, 7454 Community Pkwy NW\, Massillon\, OH\, 44646\, United States
CATEGORIES:Amphitheater Events,Park Events
ATTACH;FMTTYPE=image/png:https://jacksontwp.com/wp-content/uploads/2026/04/2026-Outback-Ray-1080x1440-1.png
ORGANIZER;CN="Jackson Township Parks & Recreation Department":MAILTO:info@jacksontwp.com
END:VEVENT
BEGIN:VEVENT
DTSTART;TZID=America/New_York:20260823T150000
DTEND;TZID=America/New_York:20260823T180000
DTSTAMP:20260421T114551
CREATED:20260311T201410Z
LAST-MODIFIED:20260402T160000Z
UID:10000078-1787497200-1787508000@jacksontwp.com
SUMMARY:A Minecraft Movie at the Nash Family Jackson Amphitheater [FREE!]
DESCRIPTION:Join us for A Minecraft Movie at the Nash Family Jackson Amphitheater! This movie is free and no ticket is required. \nFood & drinks are permitted to be brought into the Nash Family Jackson Amphitheater for this event. (No alcohol allowed\, please.) \nBring a chair or blanket\, as seating is not provided.
URL:https://jacksontwp.com/event/08232026/
LOCATION:Nash Family Jackson Amphitheater\, 7454 Community Pkwy NW\, Massillon\, OH\, 44646\, United States
CATEGORIES:Amphitheater Events,Park Events
ATTACH;FMTTYPE=image/png:https://jacksontwp.com/wp-content/uploads/2026/04/082326-Minecraft-1080x1440-1.png
END:VEVENT
BEGIN:VEVENT
DTSTART;TZID=America/New_York:20261017T190000
DTEND;TZID=America/New_York:20261017T220000
DTSTAMP:20260421T114551
CREATED:20260107T152513Z
LAST-MODIFIED:20260107T152513Z
UID:10000053-1792263600-1792274400@jacksontwp.com
SUMMARY:Haunted Hayride
DESCRIPTION:A free event for all ages! 7-10PM at our South Park!
URL:https://jacksontwp.com/event/haunted-hayride-4/
LOCATION:Jackson South Park\, 4811 South Park Dr. NW\, Massillon\, OH\, 44718\, United States
CATEGORIES:Park Events
ATTACH;FMTTYPE=image/png:https://jacksontwp.com/wp-content/uploads/2026/01/Town-Money-Saver-October.png
END:VEVENT
BEGIN:VEVENT
DTSTART;TZID=America/New_York:20261118T080000
DTEND;TZID=America/New_York:20270201T180000
DTSTAMP:20260421T114551
CREATED:20260107T153400Z
LAST-MODIFIED:20260107T153836Z
UID:10000054-1794988800-1801504800@jacksontwp.com
SUMMARY:Ice Skating Rink
DESCRIPTION:Jackson Ice Skating Rink located in North Park near the Ruwadi Pavilion. November 18th- February 1st with free skate rental on certain dates & times
URL:https://jacksontwp.com/event/ice-skating-rink/
LOCATION:North Park\, 7660 Fulton Rd. NW\, Massillon\, OH\, 44646\, United States
CATEGORIES:Park Events
ATTACH;FMTTYPE=image/png:https://jacksontwp.com/wp-content/uploads/2026/01/Ice-Skating-Rink.png
END:VEVENT
BEGIN:VEVENT
DTSTART;TZID=America/New_York:20261212T170000
DTEND;TZID=America/New_York:20261212T190000
DTSTAMP:20260421T114551
CREATED:20260107T160010Z
LAST-MODIFIED:20260107T160010Z
UID:10000055-1797094800-1797102000@jacksontwp.com
SUMMARY:Holiday in the park
DESCRIPTION:Saturday\, December 12\, 2016 beginning at 5:00pm. \nSanta’s arrival\, JSA dancers\, Christmas tree lighting with snacks and drinks served! \n 
URL:https://jacksontwp.com/event/holiday-in-the-park-4/
LOCATION:North Park\, 7660 Fulton Rd. NW\, Massillon\, OH\, 44646\, United States
CATEGORIES:Park Events
ATTACH;FMTTYPE=image/png:https://jacksontwp.com/wp-content/uploads/2026/01/HOLIDAY-IN-THE-PARK.png
END:VEVENT
END:VCALENDAR