BEGIN:VCALENDAR
VERSION:2.0
PRODID:-//Jackson Township, Stark County, Ohio - ECPv6.15.12.2//NONSGML v1.0//EN
CALSCALE:GREGORIAN
METHOD:PUBLISH
X-WR-CALNAME:Jackson Township, Stark County, Ohio
X-ORIGINAL-URL:https://jacksontwp.com
X-WR-CALDESC:Events for Jackson Township, Stark County, Ohio
REFRESH-INTERVAL;VALUE=DURATION:PT1H
X-Robots-Tag:noindex
X-PUBLISHED-TTL:PT1H
BEGIN:VTIMEZONE
TZID:America/New_York
BEGIN:DAYLIGHT
TZOFFSETFROM:-0500
TZOFFSETTO:-0400
TZNAME:EDT
DTSTART:20250309T070000
END:DAYLIGHT
BEGIN:STANDARD
TZOFFSETFROM:-0400
TZOFFSETTO:-0500
TZNAME:EST
DTSTART:20251102T060000
END:STANDARD
BEGIN:DAYLIGHT
TZOFFSETFROM:-0500
TZOFFSETTO:-0400
TZNAME:EDT
DTSTART:20260308T070000
END:DAYLIGHT
BEGIN:STANDARD
TZOFFSETFROM:-0400
TZOFFSETTO:-0500
TZNAME:EST
DTSTART:20261101T060000
END:STANDARD
BEGIN:DAYLIGHT
TZOFFSETFROM:-0500
TZOFFSETTO:-0400
TZNAME:EDT
DTSTART:20270314T070000
END:DAYLIGHT
BEGIN:STANDARD
TZOFFSETFROM:-0400
TZOFFSETTO:-0500
TZNAME:EST
DTSTART:20271107T060000
END:STANDARD
END:VTIMEZONE
BEGIN:VEVENT
DTSTART;TZID=America/New_York:20260106T170000
DTEND;TZID=America/New_York:20260106T183000
DTSTAMP:20260422T092738
CREATED:20260102T182951Z
LAST-MODIFIED:20260211T155407Z
UID:10000013-1767718800-1767724200@jacksontwp.com
SUMMARY:Jackson Township Trustees Meeting
DESCRIPTION:Get your tickets today for a Tribute to the 90s with Bad JuJu Cleveland at the Nash Family Jackson Amphitheater. Please visit www.jacksonamphitheater.com for full concert\, band and venue information\, plus links for ticket purchase.
URL:https://jacksontwp.com/event/jackson-township-trustees-meeting-107-copy/
LOCATION:Jackson Township Hall\, 5735 Wales Ave\, Massillon\, OH\, 44646\, United States
CATEGORIES:Jackson Township - Board Meetings
ATTACH;FMTTYPE=image/jpeg:https://jacksontwp.com/wp-content/uploads/2025/01/admin-building.jpg
END:VEVENT
BEGIN:VEVENT
DTSTART;TZID=America/New_York:20260115T140000
DTEND;TZID=America/New_York:20260115T150000
DTSTAMP:20260422T092739
CREATED:20260120T155002Z
LAST-MODIFIED:20260120T155002Z
UID:10000058-1768485600-1768489200@jacksontwp.com
SUMMARY:Jackson Community Improvement Corporation Meeting
DESCRIPTION:Get your tickets today for a Tribute to the 90s with Bad JuJu Cleveland at the Nash Family Jackson Amphitheater. Please visit www.jacksonamphitheater.com for full concert\, band and venue information\, plus links for ticket purchase.
URL:https://jacksontwp.com/event/jackson-community-improvement-corporation-meeting/
LOCATION:Jackson Township Hall\, 5735 Wales Ave\, Massillon\, OH\, 44646\, United States
CATEGORIES:CIC Community Improvement Corp
ATTACH;FMTTYPE=image/png:https://jacksontwp.com/wp-content/uploads/2025/01/CIC-Logo-200-x-200-px-1.png
END:VEVENT
BEGIN:VEVENT
DTSTART;TZID=America/New_York:20260115T170000
DTEND;TZID=America/New_York:20260115T190000
DTSTAMP:20260422T092739
CREATED:20260105T182414Z
LAST-MODIFIED:20260311T144916Z
UID:10000025-1768496400-1768503600@jacksontwp.com
SUMMARY:Jackson Township Trustees Meeting
DESCRIPTION:Get your tickets today for a Tribute to the 90s with Bad JuJu Cleveland at the Nash Family Jackson Amphitheater. Please visit www.jacksonamphitheater.com for full concert\, band and venue information\, plus links for ticket purchase.
URL:https://jacksontwp.com/event/trustees-meeting-2/
LOCATION:Jackson Township Hall\, 5735 Wales Ave\, Massillon\, OH\, 44646\, United States
CATEGORIES:Jackson Township - Board Meetings
ATTACH;FMTTYPE=image/png:https://jacksontwp.com/wp-content/uploads/2021/03/JT-2024-Logo-354x354-No-BG.png
END:VEVENT
BEGIN:VEVENT
DTSTART;TZID=America/New_York:20260116T170000
DTEND;TZID=America/New_York:20260301T080000
DTSTAMP:20260422T092739
CREATED:20251222T194245Z
LAST-MODIFIED:20251222T194245Z
UID:10000012-1768582800-1772352000@jacksontwp.com
SUMMARY:Yard Waste Winter Closure
DESCRIPTION:Get your tickets today for a Tribute to the 90s with Bad JuJu Cleveland at the Nash Family Jackson Amphitheater. Please visit www.jacksonamphitheater.com for full concert\, band and venue information\, plus links for ticket purchase.
URL:https://jacksontwp.com/event/yard-waste-winter-closure/
LOCATION:Jackson Township Hall\, 5735 Wales Ave\, Massillon\, OH\, 44646\, United States
ATTACH;FMTTYPE=image/png:https://jacksontwp.com/wp-content/uploads/2025/12/YARD-WASTE-SITE.png
END:VEVENT
BEGIN:VEVENT
DTSTART;TZID=America/New_York:20260119T080000
DTEND;TZID=America/New_York:20260119T170000
DTSTAMP:20260422T092739
CREATED:20260105T165731Z
LAST-MODIFIED:20260105T170304Z
UID:10000014-1768809600-1768842000@jacksontwp.com
SUMMARY:Administration Offices CLOSED
DESCRIPTION:Get your tickets today for a Tribute to the 90s with Bad JuJu Cleveland at the Nash Family Jackson Amphitheater. Please visit www.jacksonamphitheater.com for full concert\, band and venue information\, plus links for ticket purchase.
URL:https://jacksontwp.com/event/administration-offices-closed/
LOCATION:Jackson Township Hall\, 5735 Wales Ave\, Massillon\, OH\, 44646\, United States
ATTACH;FMTTYPE=image/png:https://jacksontwp.com/wp-content/uploads/2026/01/MLK-26.png
END:VEVENT
END:VCALENDAR